BEGIN:VCALENDAR
VERSION:2.0
PRODID:-//Down Syndrome Association of the Upstate - ECPv6.15.20//NONSGML v1.0//EN
CALSCALE:GREGORIAN
METHOD:PUBLISH
X-WR-CALNAME:Down Syndrome Association of the Upstate
X-ORIGINAL-URL:https://dsaupstate.org
X-WR-CALDESC:Events for Down Syndrome Association of the Upstate
REFRESH-INTERVAL;VALUE=DURATION:PT1H
X-Robots-Tag:noindex
X-PUBLISHED-TTL:PT1H
BEGIN:VTIMEZONE
TZID:America/New_York
BEGIN:DAYLIGHT
TZOFFSETFROM:-0500
TZOFFSETTO:-0400
TZNAME:EDT
DTSTART:20250309T070000
END:DAYLIGHT
BEGIN:STANDARD
TZOFFSETFROM:-0400
TZOFFSETTO:-0500
TZNAME:EST
DTSTART:20251102T060000
END:STANDARD
BEGIN:DAYLIGHT
TZOFFSETFROM:-0500
TZOFFSETTO:-0400
TZNAME:EDT
DTSTART:20260308T070000
END:DAYLIGHT
BEGIN:STANDARD
TZOFFSETFROM:-0400
TZOFFSETTO:-0500
TZNAME:EST
DTSTART:20261101T060000
END:STANDARD
BEGIN:DAYLIGHT
TZOFFSETFROM:-0500
TZOFFSETTO:-0400
TZNAME:EDT
DTSTART:20270314T070000
END:DAYLIGHT
BEGIN:STANDARD
TZOFFSETFROM:-0400
TZOFFSETTO:-0500
TZNAME:EST
DTSTART:20271107T060000
END:STANDARD
END:VTIMEZONE
BEGIN:VEVENT
DTSTART;VALUE=DATE:20260127
DTEND;VALUE=DATE:20270101
DTSTAMP:20260421T114250
CREATED:20260128T023733Z
LAST-MODIFIED:20260128T180608Z
UID:2942-1769472000-1798761599@dsaupstate.org
SUMMARY:Children's Museum
DESCRIPTION:We’ve been selected as one of the organizations to receive guest passes to The Children’s Museum of the Upstate. \nIf you’d like tickets for your family\, please complete the form below. Once submitted\, you’ll receive an email with our access code. \nTo ensure as many families as possible can participate\, there is a limit of five (5) tickets per family. Tickets may be used at either the Greenville or Spartanburg location. \nPlease note: Tickets are limited and will be distributed on a first-come\, first-served basis. Reserve early. \n\n \n\n\n\nEmail Address *\n\n\n\n\nCounty of Residence *\n\n\n\n\nParent/Guardian/Chaperone *First and Last Name\n\n\n\n\nPerson with Down syndrome *First and Last Name\n\n\n\n\nAge of person with Down Syndrome *\n\n\n\n\nNumber of tickets requesting *12345\n\n\n \n\n\nSubmit
URL:https://dsaupstate.org/event/childrens-museum/
CATEGORIES:Education
ORGANIZER;CN="Marianne Schroeder":MAILTO:mschroeder@dsaupstate.org
END:VEVENT
END:VCALENDAR