BEGIN:VCALENDAR
VERSION:2.0
PRODID:-//Down Syndrome Association of the Upstate - ECPv6.15.20//NONSGML v1.0//EN
CALSCALE:GREGORIAN
METHOD:PUBLISH
X-WR-CALNAME:Down Syndrome Association of the Upstate
X-ORIGINAL-URL:https://dsaupstate.org
X-WR-CALDESC:Events for Down Syndrome Association of the Upstate
REFRESH-INTERVAL;VALUE=DURATION:PT1H
X-Robots-Tag:noindex
X-PUBLISHED-TTL:PT1H
BEGIN:VTIMEZONE
TZID:America/New_York
BEGIN:DAYLIGHT
TZOFFSETFROM:-0500
TZOFFSETTO:-0400
TZNAME:EDT
DTSTART:20250309T070000
END:DAYLIGHT
BEGIN:STANDARD
TZOFFSETFROM:-0400
TZOFFSETTO:-0500
TZNAME:EST
DTSTART:20251102T060000
END:STANDARD
BEGIN:DAYLIGHT
TZOFFSETFROM:-0500
TZOFFSETTO:-0400
TZNAME:EDT
DTSTART:20260308T070000
END:DAYLIGHT
BEGIN:STANDARD
TZOFFSETFROM:-0400
TZOFFSETTO:-0500
TZNAME:EST
DTSTART:20261101T060000
END:STANDARD
BEGIN:DAYLIGHT
TZOFFSETFROM:-0500
TZOFFSETTO:-0400
TZNAME:EDT
DTSTART:20270314T070000
END:DAYLIGHT
BEGIN:STANDARD
TZOFFSETFROM:-0400
TZOFFSETTO:-0500
TZNAME:EST
DTSTART:20271107T060000
END:STANDARD
END:VTIMEZONE
BEGIN:VEVENT
DTSTART;TZID=America/New_York:20260606T110000
DTEND;TZID=America/New_York:20260606T140000
DTSTAMP:20260421T095601
CREATED:20260302T223055Z
LAST-MODIFIED:20260403T224214Z
UID:3008-1780743600-1780754400@dsaupstate.org
SUMMARY:Chrome and Chromosome
DESCRIPTION: Chrome & Chromosome Motorcycle Scavenger Hunt 2026  30 Chrome Dr.\, Greenville\, SC Saturday\, June 6th\, 2026 \nThe event is from 11:00 am to 2:00 pm. \nRider check-in is at 8:30 am.An extra chromosome. An extraordinary ride. Join us for a high-energy\, family-friendly motorcycle scavenger hunt supporting the Down Syndrome Association of the Upstate (DSAU)! $25 per rider $15 per passenger $30 flat family fee (includes ALL entertainment!) Live music Inflatables Popcorn Shaved ice Prize for the rider who checks in at the most checkpointsThis event is a fundraiser for the DSAU\, and we need our community’s support to make it a success. Whether you ride\, bring your family\, sponsor\, or simply help us spread the word\, it all makes a difference. Please share this post far and wide! Sponsorship opportunities are available.Let’s show what this community can do when we ride together. Register Here: click here
URL:https://dsaupstate.org/event/chrome-and-chromosome/
LOCATION:Harley-Davidson of Greenville\, 30 Chrome Dr\, Greenville\, SC\, 29615\, United States
CATEGORIES:Featured
ATTACH;FMTTYPE=image/png:https://dsaupstate.org/wp-content/uploads/2026/04/Chrome-Chromosome_for-light-bkgd.png
END:VEVENT
BEGIN:VEVENT
DTSTART;TZID=America/New_York:20260718T164500
DTEND;TZID=America/New_York:20260718T194500
DTSTAMP:20260421T095601
CREATED:20260303T033928Z
LAST-MODIFIED:20260402T233553Z
UID:3011-1784393100-1784403900@dsaupstate.org
SUMMARY:Discovery Island Water Park
DESCRIPTION:
URL:https://dsaupstate.org/event/discovery-island-water-park/
LOCATION:Discovery Island\, 417 Baldwin Rd\, Simpsonville\, SC\, 29680\, United States
CATEGORIES:Featured,Social Events
END:VEVENT
BEGIN:VEVENT
DTSTART;TZID=America/New_York:20261003T100000
DTEND;TZID=America/New_York:20261003T133000
DTSTAMP:20260421T095601
CREATED:20260303T034041Z
LAST-MODIFIED:20260401T035611Z
UID:3014-1791021600-1791034200@dsaupstate.org
SUMMARY:Buddy Walk
DESCRIPTION:
URL:https://dsaupstate.org/event/buddy-walk/
LOCATION:Conestee Park\, 840 Mauldin Rd\, Greenville\, SC\, 29607\, United States
CATEGORIES:Featured
END:VEVENT
BEGIN:VEVENT
DTSTART;TZID=America/New_York:20261205T090000
DTEND;TZID=America/New_York:20261205T110000
DTSTAMP:20260421T095601
CREATED:20260303T034221Z
LAST-MODIFIED:20260401T035507Z
UID:3016-1796461200-1796468400@dsaupstate.org
SUMMARY:Christmas Party
DESCRIPTION:
URL:https://dsaupstate.org/event/christmas-party/
CATEGORIES:Featured,Social Events
END:VEVENT
END:VCALENDAR